BEGIN:VCALENDAR
VERSION:2.0
PRODID:-//Eleven - ECPv6.15.15//NONSGML v1.0//EN
CALSCALE:GREGORIAN
METHOD:PUBLISH
X-ORIGINAL-URL:https://11a.com.pl
X-WR-CALDESC:Wydarzenia dla Eleven
REFRESH-INTERVAL;VALUE=DURATION:PT1H
X-Robots-Tag:noindex
X-PUBLISHED-TTL:PT1H
BEGIN:VTIMEZONE
TZID:Europe/Warsaw
BEGIN:DAYLIGHT
TZOFFSETFROM:+0100
TZOFFSETTO:+0200
TZNAME:CEST
DTSTART:20240331T010000
END:DAYLIGHT
BEGIN:STANDARD
TZOFFSETFROM:+0200
TZOFFSETTO:+0100
TZNAME:CET
DTSTART:20241027T010000
END:STANDARD
BEGIN:DAYLIGHT
TZOFFSETFROM:+0100
TZOFFSETTO:+0200
TZNAME:CEST
DTSTART:20250330T010000
END:DAYLIGHT
BEGIN:STANDARD
TZOFFSETFROM:+0200
TZOFFSETTO:+0100
TZNAME:CET
DTSTART:20251026T010000
END:STANDARD
BEGIN:DAYLIGHT
TZOFFSETFROM:+0100
TZOFFSETTO:+0200
TZNAME:CEST
DTSTART:20260329T010000
END:DAYLIGHT
BEGIN:STANDARD
TZOFFSETFROM:+0200
TZOFFSETTO:+0100
TZNAME:CET
DTSTART:20261025T010000
END:STANDARD
END:VTIMEZONE
BEGIN:VEVENT
DTSTART;VALUE=DATE:20250411
DTEND;VALUE=DATE:20250413
DTSTAMP:20260420T093901
CREATED:20240206T204604Z
LAST-MODIFIED:20250123T115324Z
UID:1387-1744329600-1744502399@11a.com.pl
SUMMARY:Jak leczę... w 2025 r. Hematologia Konsultacyjna
DESCRIPTION:
URL:https://11a.com.pl/wydarzenie/jak-lecze-w-2025-r-hematologia-konsultacyjna/
LOCATION:Wrocław\, Wrocław\, Poland
ATTACH;FMTTYPE=image/png:https://11a.com.pl/wp-content/uploads/2024/02/HK_REKLAMA_BANNER_407x160_31-24.png
END:VEVENT
BEGIN:VEVENT
DTSTART;VALUE=DATE:20250424
DTEND;VALUE=DATE:20250426
DTSTAMP:20260420T093901
CREATED:20240206T204313Z
LAST-MODIFIED:20250123T115419Z
UID:1383-1745452800-1745625599@11a.com.pl
SUMMARY:NEW HORIZONS IN HEMATO-ONCOLOGY
DESCRIPTION:
URL:https://11a.com.pl/wydarzenie/new-horizons-in-acute-leukemias-2/
LOCATION:Łódź\, Łódź\, Łódzkie\, Poland
ATTACH;FMTTYPE=image/png:https://11a.com.pl/wp-content/uploads/2024/11/11a_NH_BANNER_407x160_29-24_v4.png
END:VEVENT
BEGIN:VEVENT
DTSTART;VALUE=DATE:20250425
DTEND;VALUE=DATE:20250427
DTSTAMP:20260420T093901
CREATED:20250326T104436Z
LAST-MODIFIED:20250326T104436Z
UID:1697-1745539200-1745711999@11a.com.pl
SUMMARY:FOLLOW HEMO TRENDS
DESCRIPTION:
URL:https://11a.com.pl/wydarzenie/follow-hemo-trends-2/
LOCATION:Opalenica\, 64-330\, Poland
ATTACH;FMTTYPE=image/png:https://11a.com.pl/wp-content/uploads/2025/03/11a_FHT_25-26.04.2025_banner_11a_407x160.png
END:VEVENT
END:VCALENDAR