BEGIN:VCALENDAR
VERSION:2.0
PRODID:-//Eleven - ECPv6.15.15//NONSGML v1.0//EN
CALSCALE:GREGORIAN
METHOD:PUBLISH
X-WR-CALNAME:Eleven
X-ORIGINAL-URL:https://11a.com.pl
X-WR-CALDESC:Wydarzenia dla Eleven
REFRESH-INTERVAL;VALUE=DURATION:PT1H
X-Robots-Tag:noindex
X-PUBLISHED-TTL:PT1H
BEGIN:VTIMEZONE
TZID:Europe/Warsaw
BEGIN:DAYLIGHT
TZOFFSETFROM:+0100
TZOFFSETTO:+0200
TZNAME:CEST
DTSTART:20230326T010000
END:DAYLIGHT
BEGIN:STANDARD
TZOFFSETFROM:+0200
TZOFFSETTO:+0100
TZNAME:CET
DTSTART:20231029T010000
END:STANDARD
BEGIN:DAYLIGHT
TZOFFSETFROM:+0100
TZOFFSETTO:+0200
TZNAME:CEST
DTSTART:20240331T010000
END:DAYLIGHT
BEGIN:STANDARD
TZOFFSETFROM:+0200
TZOFFSETTO:+0100
TZNAME:CET
DTSTART:20241027T010000
END:STANDARD
BEGIN:DAYLIGHT
TZOFFSETFROM:+0100
TZOFFSETTO:+0200
TZNAME:CEST
DTSTART:20250330T010000
END:DAYLIGHT
BEGIN:STANDARD
TZOFFSETFROM:+0200
TZOFFSETTO:+0100
TZNAME:CET
DTSTART:20251026T010000
END:STANDARD
END:VTIMEZONE
BEGIN:VEVENT
DTSTART;VALUE=DATE:20241004
DTEND;VALUE=DATE:20241006
DTSTAMP:20260422T192357
CREATED:20240202T151321Z
LAST-MODIFIED:20240910T095034Z
UID:1357-1728000000-1728172799@11a.com.pl
SUMMARY:ILCM Conference
DESCRIPTION:
URL:https://11a.com.pl/wydarzenie/ilcm-conference/
LOCATION:Warszawa\, Warszawa\, Poland
ATTACH;FMTTYPE=image/jpeg:https://11a.com.pl/wp-content/uploads/2024/09/ILCM_banner_407x160_35-24_v3.jpg
END:VEVENT
BEGIN:VEVENT
DTSTART;VALUE=DATE:20241011
DTEND;VALUE=DATE:20241013
DTSTAMP:20260422T192357
CREATED:20240202T152114Z
LAST-MODIFIED:20240924T132919Z
UID:1361-1728604800-1728777599@11a.com.pl
SUMMARY:VIII Interdyscyplinarna Konferencja Amyloidoza | konferencja on-line
DESCRIPTION:
URL:https://11a.com.pl/wydarzenie/viii-interdyscyplinarna-konferencja-amyloidoza-konferencja-on-line/
LOCATION:ONLINE
ATTACH;FMTTYPE=image/png:https://11a.com.pl/wp-content/uploads/2024/02/Amyloidoza_BANNER_407x160_237-23.png
END:VEVENT
BEGIN:VEVENT
DTSTART;VALUE=DATE:20241022
DTEND;VALUE=DATE:20241024
DTSTAMP:20260422T192357
CREATED:20230615T133444Z
LAST-MODIFIED:20241203T111854Z
UID:1262-1729555200-1729727999@11a.com.pl
SUMMARY:XIV Ogólnopolskie Warsztaty MDS i AML | konferencja on-line
DESCRIPTION:
URL:https://11a.com.pl/wydarzenie/xiv-ogolnopolskie-warsztaty-mds-i-aml-konferencja-online/
LOCATION:ONLINE
ATTACH;FMTTYPE=image/png:https://11a.com.pl/wp-content/uploads/2024/12/11a_MDS_BANNER_407x160_2025_219-24.png
END:VEVENT
END:VCALENDAR