BEGIN:VCALENDAR
VERSION:2.0
PRODID:-//Eleven - ECPv6.15.15//NONSGML v1.0//EN
CALSCALE:GREGORIAN
METHOD:PUBLISH
X-ORIGINAL-URL:https://11a.com.pl
X-WR-CALDESC:Wydarzenia dla Eleven
REFRESH-INTERVAL;VALUE=DURATION:PT1H
X-Robots-Tag:noindex
X-PUBLISHED-TTL:PT1H
BEGIN:VTIMEZONE
TZID:Europe/Warsaw
BEGIN:DAYLIGHT
TZOFFSETFROM:+0100
TZOFFSETTO:+0200
TZNAME:CEST
DTSTART:20230326T010000
END:DAYLIGHT
BEGIN:STANDARD
TZOFFSETFROM:+0200
TZOFFSETTO:+0100
TZNAME:CET
DTSTART:20231029T010000
END:STANDARD
BEGIN:DAYLIGHT
TZOFFSETFROM:+0100
TZOFFSETTO:+0200
TZNAME:CEST
DTSTART:20240331T010000
END:DAYLIGHT
BEGIN:STANDARD
TZOFFSETFROM:+0200
TZOFFSETTO:+0100
TZNAME:CET
DTSTART:20241027T010000
END:STANDARD
BEGIN:DAYLIGHT
TZOFFSETFROM:+0100
TZOFFSETTO:+0200
TZNAME:CEST
DTSTART:20250330T010000
END:DAYLIGHT
BEGIN:STANDARD
TZOFFSETFROM:+0200
TZOFFSETTO:+0100
TZNAME:CET
DTSTART:20251026T010000
END:STANDARD
END:VTIMEZONE
BEGIN:VEVENT
DTSTART;VALUE=DATE:20240906
DTEND;VALUE=DATE:20240908
DTSTAMP:20260422T205543
CREATED:20230331T114944Z
LAST-MODIFIED:20240612T092357Z
UID:1208-1725580800-1725753599@11a.com.pl
SUMMARY:V Ogólnopolska Konferencja „Hematologia Praktyczna"
DESCRIPTION:
URL:https://11a.com.pl/wydarzenie/vi-ogolnopolska-konferencja-hematologia-praktyczna/
LOCATION:Rzeszów\, Rzeszów\, Podkarpackie\, Poland
ATTACH;FMTTYPE=image/png:https://11a.com.pl/wp-content/uploads/2023/04/4.-bannery_konferencyjne_67-233.png
END:VEVENT
BEGIN:VEVENT
DTSTART;VALUE=DATE:20240916
DTEND;VALUE=DATE:20240918
DTSTAMP:20260422T205543
CREATED:20230622T133817Z
LAST-MODIFIED:20240612T092659Z
UID:1269-1726444800-1726617599@11a.com.pl
SUMMARY:XV spotkanie Zespołów Laboratoriów Hematologii Molekularnej
DESCRIPTION:
URL:https://11a.com.pl/wydarzenie/xv-spotkanie-zespolow-laboratoriow-hematologii-molekularnej/
LOCATION:Kraków\, Kraków\, Poland
ATTACH;FMTTYPE=image/jpeg:https://11a.com.pl/wp-content/uploads/2024/01/HM.jpg
END:VEVENT
BEGIN:VEVENT
DTSTART;VALUE=DATE:20240918
DTEND;VALUE=DATE:20240919
DTSTAMP:20260422T205543
CREATED:20240910T095353Z
LAST-MODIFIED:20240910T095353Z
UID:1484-1726617600-1726703999@11a.com.pl
SUMMARY:GOTOWI NA WSZYSTKO…JAK PACJENCI Z PBL MOGĄ STAWIĆ CZOŁA SEZONOWI INFEKCYJNEMU? | ONLINE
DESCRIPTION:
URL:https://11a.com.pl/wydarzenie/gotowi-na-wszystkojak-pacjenci-z-pbl-moga-stawic-czola-sezonowi-infekcyjnemu-online/
LOCATION:ONLINE
ATTACH;FMTTYPE=image/png:https://11a.com.pl/wp-content/uploads/2024/09/PBL-INFEKCJE_BANNER_1000x450_170-24_v2.png
END:VEVENT
BEGIN:VEVENT
DTSTART;VALUE=DATE:20240920
DTEND;VALUE=DATE:20240922
DTSTAMP:20260422T205543
CREATED:20230331T115130Z
LAST-MODIFIED:20240521T110804Z
UID:1210-1726790400-1726963199@11a.com.pl
SUMMARY:Hematologia Konsultacyjna. Jak Leczę … w 2024 r.
DESCRIPTION:
URL:https://11a.com.pl/wydarzenie/hematologia-konsultacyjna-jak-lecze-w-2024-r/
LOCATION:Gdańsk\, Gdańsk\, Pomorskie\, Poland
ATTACH;FMTTYPE=image/png:https://11a.com.pl/wp-content/uploads/2023/03/5.-bannery_konferencyjne_67-235.png
END:VEVENT
END:VCALENDAR