BEGIN:VCALENDAR
VERSION:2.0
PRODID:-//Eleven - ECPv6.15.15//NONSGML v1.0//EN
CALSCALE:GREGORIAN
METHOD:PUBLISH
X-WR-CALNAME:Eleven
X-ORIGINAL-URL:https://11a.com.pl
X-WR-CALDESC:Wydarzenia dla Eleven
REFRESH-INTERVAL;VALUE=DURATION:PT1H
X-Robots-Tag:noindex
X-PUBLISHED-TTL:PT1H
BEGIN:VTIMEZONE
TZID:Europe/Warsaw
BEGIN:DAYLIGHT
TZOFFSETFROM:+0100
TZOFFSETTO:+0200
TZNAME:CEST
DTSTART:20220327T010000
END:DAYLIGHT
BEGIN:STANDARD
TZOFFSETFROM:+0200
TZOFFSETTO:+0100
TZNAME:CET
DTSTART:20221030T010000
END:STANDARD
BEGIN:DAYLIGHT
TZOFFSETFROM:+0100
TZOFFSETTO:+0200
TZNAME:CEST
DTSTART:20230326T010000
END:DAYLIGHT
BEGIN:STANDARD
TZOFFSETFROM:+0200
TZOFFSETTO:+0100
TZNAME:CET
DTSTART:20231029T010000
END:STANDARD
BEGIN:DAYLIGHT
TZOFFSETFROM:+0100
TZOFFSETTO:+0200
TZNAME:CEST
DTSTART:20240331T010000
END:DAYLIGHT
BEGIN:STANDARD
TZOFFSETFROM:+0200
TZOFFSETTO:+0100
TZNAME:CET
DTSTART:20241027T010000
END:STANDARD
END:VTIMEZONE
BEGIN:VEVENT
DTSTART;VALUE=DATE:20231006
DTEND;VALUE=DATE:20231008
DTSTAMP:20260423T123445
CREATED:20220822T203256Z
LAST-MODIFIED:20230823T140743Z
UID:1016-1696550400-1696723199@11a.com.pl
SUMMARY:VII Interdyscypilnarna Konferencja Amyloidoza
DESCRIPTION:
URL:https://11a.com.pl/wydarzenie/vi-interdyscypilnarna-konferencja-amyloidoza/
LOCATION:Warszawa\, Warszawa\, Poland
ATTACH;FMTTYPE=image/png:https://11a.com.pl/wp-content/uploads/2023/08/Amyloidoza_BANNER_407x160_172-23.png
END:VEVENT
BEGIN:VEVENT
DTSTART;VALUE=DATE:20231020
DTEND;VALUE=DATE:20231022
DTSTAMP:20260423T123445
CREATED:20221125T113445Z
LAST-MODIFIED:20230329T091212Z
UID:1125-1697760000-1697932799@11a.com.pl
SUMMARY:International LYMPHOMA | CLL | MYELOMA Conference
DESCRIPTION:
URL:https://11a.com.pl/wydarzenie/international-lymphoma-cll-myeloma-conference/
LOCATION:Kraków\, Kraków\, Poland
ATTACH;FMTTYPE=image/png:https://11a.com.pl/wp-content/uploads/2022/11/ILCM_banner_407x160_180-22_v22.png
END:VEVENT
BEGIN:VEVENT
DTSTART;VALUE=DATE:20231024
DTEND;VALUE=DATE:20231026
DTSTAMP:20260423T123445
CREATED:20220822T201625Z
LAST-MODIFIED:20230628T093914Z
UID:1008-1698105600-1698278399@11a.com.pl
SUMMARY:XIII Ogólnopolskie Warsztaty MDS i AML
DESCRIPTION:
URL:https://11a.com.pl/wydarzenie/xii-ogolnopolskie-warsztaty-mds-i-aml-2/
LOCATION:ONLINE
ATTACH;FMTTYPE=image/jpeg:https://11a.com.pl/wp-content/uploads/2022/08/MDS_AML-warsztaty-2023-407x160-v2.jpg
END:VEVENT
END:VCALENDAR