BEGIN:VCALENDAR
VERSION:2.0
PRODID:-//Eleven - ECPv6.15.15//NONSGML v1.0//EN
CALSCALE:GREGORIAN
METHOD:PUBLISH
X-ORIGINAL-URL:https://11a.com.pl
X-WR-CALDESC:Wydarzenia dla Eleven
REFRESH-INTERVAL;VALUE=DURATION:PT1H
X-Robots-Tag:noindex
X-PUBLISHED-TTL:PT1H
BEGIN:VTIMEZONE
TZID:Europe/Warsaw
BEGIN:DAYLIGHT
TZOFFSETFROM:+0100
TZOFFSETTO:+0200
TZNAME:CEST
DTSTART:20220327T010000
END:DAYLIGHT
BEGIN:STANDARD
TZOFFSETFROM:+0200
TZOFFSETTO:+0100
TZNAME:CET
DTSTART:20221030T010000
END:STANDARD
BEGIN:DAYLIGHT
TZOFFSETFROM:+0100
TZOFFSETTO:+0200
TZNAME:CEST
DTSTART:20230326T010000
END:DAYLIGHT
BEGIN:STANDARD
TZOFFSETFROM:+0200
TZOFFSETTO:+0100
TZNAME:CET
DTSTART:20231029T010000
END:STANDARD
BEGIN:DAYLIGHT
TZOFFSETFROM:+0100
TZOFFSETTO:+0200
TZNAME:CEST
DTSTART:20240331T010000
END:DAYLIGHT
BEGIN:STANDARD
TZOFFSETFROM:+0200
TZOFFSETTO:+0100
TZNAME:CET
DTSTART:20241027T010000
END:STANDARD
END:VTIMEZONE
BEGIN:VEVENT
DTSTART;VALUE=DATE:20230204
DTEND;VALUE=DATE:20230205
DTSTAMP:20260424T002126
CREATED:20221122T094100Z
LAST-MODIFIED:20221122T094100Z
UID:1119-1675468800-1675555199@11a.com.pl
SUMMARY:ECHA ASBMR
DESCRIPTION:
URL:https://11a.com.pl/wydarzenie/echa-asbmr-2/
LOCATION:ONLINE
ATTACH;FMTTYPE=image/png:https://11a.com.pl/wp-content/uploads/2022/11/ELEVEN_BANNERY_407x160_146-2242.png
END:VEVENT
BEGIN:VEVENT
DTSTART;VALUE=DATE:20230224
DTEND;VALUE=DATE:20230226
DTSTAMP:20260424T002126
CREATED:20220822T200701Z
LAST-MODIFIED:20230119T124823Z
UID:999-1677196800-1677369599@11a.com.pl
SUMMARY:12 Konferencja CURRENT & FUTURE PERSPECTIVES OF MM TREATMENT
DESCRIPTION:
URL:https://11a.com.pl/wydarzenie/12-konferencja-current-future-perspectives-of-mm-treatment/
LOCATION:Warszawa\, Warszawa\, Poland
ATTACH;FMTTYPE=image/jpeg:https://11a.com.pl/wp-content/uploads/2022/08/CF-Y_407x160_146-222.jpg
END:VEVENT
END:VCALENDAR