BEGIN:VCALENDAR
VERSION:2.0
PRODID:-//Eleven - ECPv6.15.15//NONSGML v1.0//EN
CALSCALE:GREGORIAN
METHOD:PUBLISH
X-WR-CALNAME:Eleven
X-ORIGINAL-URL:https://11a.com.pl
X-WR-CALDESC:Wydarzenia dla Eleven
REFRESH-INTERVAL;VALUE=DURATION:PT1H
X-Robots-Tag:noindex
X-PUBLISHED-TTL:PT1H
BEGIN:VTIMEZONE
TZID:Europe/Warsaw
BEGIN:DAYLIGHT
TZOFFSETFROM:+0100
TZOFFSETTO:+0200
TZNAME:CEST
DTSTART:20190331T010000
END:DAYLIGHT
BEGIN:STANDARD
TZOFFSETFROM:+0200
TZOFFSETTO:+0100
TZNAME:CET
DTSTART:20191027T010000
END:STANDARD
BEGIN:DAYLIGHT
TZOFFSETFROM:+0100
TZOFFSETTO:+0200
TZNAME:CEST
DTSTART:20200329T010000
END:DAYLIGHT
BEGIN:STANDARD
TZOFFSETFROM:+0200
TZOFFSETTO:+0100
TZNAME:CET
DTSTART:20201025T010000
END:STANDARD
BEGIN:DAYLIGHT
TZOFFSETFROM:+0100
TZOFFSETTO:+0200
TZNAME:CEST
DTSTART:20210328T010000
END:DAYLIGHT
BEGIN:STANDARD
TZOFFSETFROM:+0200
TZOFFSETTO:+0100
TZNAME:CET
DTSTART:20211031T010000
END:STANDARD
END:VTIMEZONE
BEGIN:VEVENT
DTSTART;VALUE=DATE:20200728
DTEND;VALUE=DATE:20200826
DTSTAMP:20260425T182727
CREATED:20210301T112429Z
LAST-MODIFIED:20210301T112429Z
UID:724-1595894400-1598399999@11a.com.pl
SUMMARY:Letnie Spotkania Hematologiczne
DESCRIPTION:
URL:https://11a.com.pl/wydarzenie/letnie-spotkania-hematologiczne/
LOCATION:ONLINE
ATTACH;FMTTYPE=image/jpeg:https://11a.com.pl/wp-content/uploads/2020/09/BANNERY-KONFERENCJE-ELEVEN-407x160px_139-20_v32.jpg
END:VEVENT
BEGIN:VEVENT
DTSTART;VALUE=DATE:20200812
DTEND;VALUE=DATE:20200827
DTSTAMP:20260425T182727
CREATED:20210301T112724Z
LAST-MODIFIED:20210301T112724Z
UID:728-1597190400-1598486399@11a.com.pl
SUMMARY:Wakacje z hematologią. Nowe kierunki w hematologii
DESCRIPTION:
URL:https://11a.com.pl/wydarzenie/wakacje-z-hematologia-nowe-kierunki-w-hematologii/
LOCATION:ONLINE
ATTACH;FMTTYPE=image/jpeg:https://11a.com.pl/wp-content/uploads/2020/10/BANNERY-KONFERENCJE-ELEVEN-407x160px_139-20_v34.jpg
END:VEVENT
END:VCALENDAR