BEGIN:VCALENDAR
VERSION:2.0
PRODID:-//Eleven - ECPv6.15.15//NONSGML v1.0//EN
CALSCALE:GREGORIAN
METHOD:PUBLISH
X-WR-CALNAME:Eleven
X-ORIGINAL-URL:https://11a.com.pl
X-WR-CALDESC:Wydarzenia dla Eleven
REFRESH-INTERVAL;VALUE=DURATION:PT1H
X-Robots-Tag:noindex
X-PUBLISHED-TTL:PT1H
BEGIN:VTIMEZONE
TZID:Europe/Warsaw
BEGIN:DAYLIGHT
TZOFFSETFROM:+0100
TZOFFSETTO:+0200
TZNAME:CEST
DTSTART:20180325T010000
END:DAYLIGHT
BEGIN:STANDARD
TZOFFSETFROM:+0200
TZOFFSETTO:+0100
TZNAME:CET
DTSTART:20181028T010000
END:STANDARD
BEGIN:DAYLIGHT
TZOFFSETFROM:+0100
TZOFFSETTO:+0200
TZNAME:CEST
DTSTART:20190331T010000
END:DAYLIGHT
BEGIN:STANDARD
TZOFFSETFROM:+0200
TZOFFSETTO:+0100
TZNAME:CET
DTSTART:20191027T010000
END:STANDARD
BEGIN:DAYLIGHT
TZOFFSETFROM:+0100
TZOFFSETTO:+0200
TZNAME:CEST
DTSTART:20200329T010000
END:DAYLIGHT
BEGIN:STANDARD
TZOFFSETFROM:+0200
TZOFFSETTO:+0100
TZNAME:CET
DTSTART:20201025T010000
END:STANDARD
BEGIN:DAYLIGHT
TZOFFSETFROM:+0100
TZOFFSETTO:+0200
TZNAME:CEST
DTSTART:20210328T010000
END:DAYLIGHT
BEGIN:STANDARD
TZOFFSETFROM:+0200
TZOFFSETTO:+0100
TZNAME:CET
DTSTART:20211031T010000
END:STANDARD
BEGIN:DAYLIGHT
TZOFFSETFROM:+0100
TZOFFSETTO:+0200
TZNAME:CEST
DTSTART:20220327T010000
END:DAYLIGHT
BEGIN:STANDARD
TZOFFSETFROM:+0200
TZOFFSETTO:+0100
TZNAME:CET
DTSTART:20221030T010000
END:STANDARD
END:VTIMEZONE
BEGIN:VEVENT
DTSTART;VALUE=DATE:20211019
DTEND;VALUE=DATE:20211021
DTSTAMP:20260420T002705
CREATED:20210203T092051Z
LAST-MODIFIED:20210311T152312Z
UID:667-1634601600-1634774399@11a.com.pl
SUMMARY:XI OGÓNOPOLSKIE WARSZTATY MDS I AML
DESCRIPTION:
URL:https://11a.com.pl/wydarzenie/xi-ogonopolskie-warsztaty-mds-i-aml/
LOCATION:ONLINE
ATTACH;FMTTYPE=image/jpeg:https://11a.com.pl/wp-content/uploads/2021/02/MDS_AML-warsztaty-2021-407x160-013.jpg
END:VEVENT
BEGIN:VEVENT
DTSTART;VALUE=DATE:20211008
DTEND;VALUE=DATE:20211010
DTSTAMP:20260420T002705
CREATED:20210301T111430Z
LAST-MODIFIED:20210301T111430Z
UID:709-1633651200-1633823999@11a.com.pl
SUMMARY:V Interdyscyplinarna Konferencja AMYLOIDOZA
DESCRIPTION:
URL:https://11a.com.pl/wydarzenie/v-interdyscyplinarna-konferencja-amyloidoza/
LOCATION:Warszawa\, Warszawa\, Poland
ATTACH;FMTTYPE=image/jpeg:https://11a.com.pl/wp-content/uploads/2020/10/407x160pxv-interdyscyplinarna-konferencja-amyloidoza_v5.jpg
END:VEVENT
BEGIN:VEVENT
DTSTART;VALUE=DATE:20210930
DTEND;VALUE=DATE:20211002
DTSTAMP:20260420T002705
CREATED:20210301T105648Z
LAST-MODIFIED:20220117T154422Z
UID:683-1632960000-1633132799@11a.com.pl
SUMMARY:New Horizons in Acute Leukemias
DESCRIPTION:
URL:https://11a.com.pl/wydarzenie/new-horizons-in-acute-leukemias/
LOCATION:Łódź\, Łódź\, Łódzkie\, Poland
ATTACH;FMTTYPE=image/jpeg:https://11a.com.pl/wp-content/uploads/2020/12/BANNERY-KONFERENCJE-ELEVEN-407x160px_139-20_v5_NOWE_HORYZONTY.jpg
END:VEVENT
BEGIN:VEVENT
DTSTART;VALUE=DATE:20210902
DTEND;VALUE=DATE:20210904
DTSTAMP:20260420T002705
CREATED:20210607T142518Z
LAST-MODIFIED:20220124T145115Z
UID:817-1630540800-1630713599@11a.com.pl
SUMMARY:XXIX Zjazd Polskiego Towarzystwa Hematologów i Transfuzjologów HIGHLIGHTS 2021
DESCRIPTION:
URL:https://11a.com.pl/wydarzenie/xxix-zjazd-polskiego-towarzystwa-hematologow-i-transfuzjologow-highlights-2021/
LOCATION:ONLINE
ATTACH;FMTTYPE=image/jpeg:https://11a.com.pl/wp-content/uploads/2021/06/zjazd_PTHiT-online-banner-407x160-1.jpg
END:VEVENT
BEGIN:VEVENT
DTSTART;VALUE=DATE:20210701
DTEND;VALUE=DATE:20210901
DTSTAMP:20260420T002705
CREATED:20210311T150504Z
LAST-MODIFIED:20210311T150504Z
UID:763-1625097600-1630454399@11a.com.pl
SUMMARY:Letnie Spotkania Hematologiczne
DESCRIPTION:
URL:https://11a.com.pl/wydarzenie/letnie-spotkania-hematologiczne-2/
ATTACH;FMTTYPE=image/jpeg:https://11a.com.pl/wp-content/uploads/2020/09/BANNERY-KONFERENCJE-ELEVEN-407x160px_139-20_v32.jpg
END:VEVENT
BEGIN:VEVENT
DTSTART;VALUE=DATE:20210621
DTEND;VALUE=DATE:20210622
DTSTAMP:20260420T002705
CREATED:20210301T110513Z
LAST-MODIFIED:20210301T110513Z
UID:693-1624233600-1624319999@11a.com.pl
SUMMARY:EHA News 2021
DESCRIPTION:
URL:https://11a.com.pl/wydarzenie/eha-news-2021/
LOCATION:ONLINE
ATTACH;FMTTYPE=image/jpeg:https://11a.com.pl/wp-content/uploads/2020/12/EHA-News-2021.jpg
END:VEVENT
BEGIN:VEVENT
DTSTART;VALUE=DATE:20210513
DTEND;VALUE=DATE:20210516
DTSTAMP:20260420T002705
CREATED:20210301T111954Z
LAST-MODIFIED:20210329T084703Z
UID:717-1620864000-1621123199@11a.com.pl
SUMMARY:IV Międzynarodowa Konferencja Naukowa Zakażenia w Hematologii i Transplantologii
DESCRIPTION:
URL:https://11a.com.pl/wydarzenie/iv-miedzynarodowa-konferencja-naukowa-zakazenia-w-hematologii-i-transplantologii/
LOCATION:ONLINE
ATTACH;FMTTYPE=image/jpeg:https://11a.com.pl/wp-content/uploads/2021/03/www-11a.-bannr-407x160-IV-MKN-zakazenia-konf_online.jpg
END:VEVENT
BEGIN:VEVENT
DTSTART;TZID=Europe/Warsaw:20210501T080000
DTEND;TZID=Europe/Warsaw:20211130T170000
DTSTAMP:20260420T002705
CREATED:20210504T112751Z
LAST-MODIFIED:20220124T145039Z
UID:795-1619856000-1638291600@11a.com.pl
SUMMARY:Myeloma Workshop - cykl 4 spotkań on-line
DESCRIPTION:
URL:https://11a.com.pl/wydarzenie/myeloma-workshop/
LOCATION:ONLINE
ATTACH;FMTTYPE=image/jpeg:https://11a.com.pl/wp-content/uploads/2021/05/banner_407x160_Myeloma_53-21.jpg
END:VEVENT
BEGIN:VEVENT
DTSTART;VALUE=DATE:20210422
DTEND;VALUE=DATE:20210425
DTSTAMP:20260420T002705
CREATED:20210301T112105Z
LAST-MODIFIED:20210301T112105Z
UID:719-1619049600-1619308799@11a.com.pl
SUMMARY:Jak leczę... w 2021r. Hematologia Konsultacyjna
DESCRIPTION:
URL:https://11a.com.pl/wydarzenie/jak-lecze-w-2021r-hematologia-konsultacyjna/
LOCATION:ONLINE
ATTACH;FMTTYPE=image/jpeg:https://11a.com.pl/wp-content/uploads/2020/10/BANNERY-KONFERENCJE-ELEVEN-407x160px_139-20_v36.jpg
END:VEVENT
BEGIN:VEVENT
DTSTART;VALUE=DATE:20210413
DTEND;VALUE=DATE:20210414
DTSTAMP:20260420T002705
CREATED:20210329T085315Z
LAST-MODIFIED:20210329T085315Z
UID:783-1618272000-1618358399@11a.com.pl
SUMMARY:Praktyczne Aspekty Diagnostyki i Leczenia MDS/AML
DESCRIPTION:
URL:https://11a.com.pl/wydarzenie/praktyczne-aspekty-diagnostyki-i-leczenia-mds-aml/
LOCATION:ONLINE
ATTACH;FMTTYPE=image/jpeg:https://11a.com.pl/wp-content/uploads/2021/03/banner_407x160px_SPOTKANIE_MDS_AML_34-21.jpg
END:VEVENT
BEGIN:VEVENT
DTSTART;VALUE=DATE:20210407
DTEND;VALUE=DATE:20210409
DTSTAMP:20260420T002705
CREATED:20210305T155552Z
LAST-MODIFIED:20210311T151638Z
UID:758-1617753600-1617926399@11a.com.pl
SUMMARY:Wiosenna Szkoła Transplantologii
DESCRIPTION:
URL:https://11a.com.pl/wydarzenie/wiosenna-szkola-transplantologii/
LOCATION:ONLINE
ATTACH;FMTTYPE=image/png:https://11a.com.pl/wp-content/uploads/2021/03/WSzT_www_banner_407x160px_72dpi.png
END:VEVENT
BEGIN:VEVENT
DTSTART;VALUE=DATE:20210116
DTEND;VALUE=DATE:20210117
DTSTAMP:20260420T002705
CREATED:20210301T110616Z
LAST-MODIFIED:20210301T110616Z
UID:695-1610755200-1610841599@11a.com.pl
SUMMARY:Echa ASBMR
DESCRIPTION:
URL:https://11a.com.pl/wydarzenie/echa-asbmr/
LOCATION:ONLINE
ATTACH;FMTTYPE=image/jpeg:https://11a.com.pl/wp-content/uploads/2020/12/ECHA-Asbmr-16.01.21.jpg
END:VEVENT
BEGIN:VEVENT
DTSTART;VALUE=DATE:20210114
DTEND;VALUE=DATE:20210116
DTSTAMP:20260420T002705
CREATED:20210301T110257Z
LAST-MODIFIED:20210301T110257Z
UID:689-1610582400-1610755199@11a.com.pl
SUMMARY:Od eksperymentu do standardu w perspektywie ASH 2020
DESCRIPTION:
URL:https://11a.com.pl/wydarzenie/od-eksperymentu-do-standardu-w-perspektywie-ash-2020-2/
LOCATION:ONLINE
ATTACH;FMTTYPE=image/jpeg:https://11a.com.pl/wp-content/uploads/2020/12/Od-eksperymentu-do-standardu-w-perspektywie-ASH-2020-2021.jpg
END:VEVENT
BEGIN:VEVENT
DTSTART;VALUE=DATE:20201123
DTEND;VALUE=DATE:20201124
DTSTAMP:20260420T002705
CREATED:20210312T151817Z
LAST-MODIFIED:20210312T151817Z
UID:770-1606089600-1606175999@11a.com.pl
SUMMARY:Warsztat pod patronatem PALG sekcja CLL: Jak optymalnie leczyć CLL z delecją/mutacją genu TP53 w pierwszej i kolejnych liniach terapii?
DESCRIPTION:
URL:https://11a.com.pl/wydarzenie/warsztat-pod-patronatem-palg-sekcja-cll-jak-optymalnie-leczyc-cll-z-delecja-mutacja-genu-tp53-w-pierwszej-i-kolejnych-liniach-terapii/
LOCATION:ONLINE
CATEGORIES:Archiwalne
ATTACH;FMTTYPE=image/jpeg:https://11a.com.pl/wp-content/uploads/2021/03/Baner_407x160_WARSZTAT-SEKCJI-PALG-CLL_170-2024-1.jpg
END:VEVENT
BEGIN:VEVENT
DTSTART;VALUE=DATE:20201119
DTEND;VALUE=DATE:20201122
DTSTAMP:20260420T002705
CREATED:20210301T113027Z
LAST-MODIFIED:20220124T144809Z
UID:734-1605744000-1606003199@11a.com.pl
SUMMARY:NOWOTWORY UKŁADU KRWIOTWÓRCZEGO 2020 konferencja online
DESCRIPTION:
URL:https://11a.com.pl/wydarzenie/nowotwory-ukladu-krwiotworczego-2020-konferencja-online/
LOCATION:ONLINE
ATTACH;FMTTYPE=image/jpeg:https://11a.com.pl/wp-content/uploads/2020/10/baner_www_NUK_407x160px_081020w2.jpg
END:VEVENT
BEGIN:VEVENT
DTSTART;VALUE=DATE:20201021
DTEND;VALUE=DATE:20201024
DTSTAMP:20260420T002705
CREATED:20210301T105527Z
LAST-MODIFIED:20220124T144533Z
UID:681-1603238400-1603497599@11a.com.pl
SUMMARY:X Ogólnopolskie Warsztaty MDS i AML
DESCRIPTION:
URL:https://11a.com.pl/wydarzenie/x-ogolnopolskie-warsztaty-mds-i-aml/
LOCATION:ONLINE
CATEGORIES:Archiwalne
ATTACH;FMTTYPE=image/jpeg:https://11a.com.pl/wp-content/uploads/2020/10/MDS_X_Warsz_baner_407x160_081020.jpg
END:VEVENT
BEGIN:VEVENT
DTSTART;VALUE=DATE:20201006
DTEND;VALUE=DATE:20201007
DTSTAMP:20260420T002705
CREATED:20210301T110718Z
LAST-MODIFIED:20220124T143847Z
UID:697-1601942400-1602028799@11a.com.pl
SUMMARY:Covid-19 – czy będzie druga fala? GILEAD
DESCRIPTION:
URL:https://11a.com.pl/wydarzenie/covid-19-czy-bedzie-druga-fala-gilead/
LOCATION:ONLINE
ATTACH;FMTTYPE=image/jpeg:https://11a.com.pl/wp-content/uploads/2020/10/BANNERY-KONFERENCJE-ELEVEN-407x160px_139-20_v33.jpg
END:VEVENT
BEGIN:VEVENT
DTSTART;VALUE=DATE:20201005
DTEND;VALUE=DATE:20201007
DTSTAMP:20260420T002705
CREATED:20210301T113151Z
LAST-MODIFIED:20210301T113151Z
UID:736-1601856000-1602028799@11a.com.pl
SUMMARY:IV Interdyscyplinarna Konferencja AMYLOIDOZA
DESCRIPTION:
URL:https://11a.com.pl/wydarzenie/iv-interdyscyplinarna-konferencja-amyloidoza/
LOCATION:ONLINE
ATTACH;FMTTYPE=image/jpeg:https://11a.com.pl/wp-content/uploads/2020/10/407x160pxiv-interdyscyplinarna-konferencja-amyloidoza_v2.jpg
END:VEVENT
BEGIN:VEVENT
DTSTART;VALUE=DATE:20200928
DTEND;VALUE=DATE:20201001
DTSTAMP:20260420T002705
CREATED:20210301T113351Z
LAST-MODIFIED:20210301T113351Z
UID:738-1601251200-1601510399@11a.com.pl
SUMMARY:Hematologia Konsultacyjna. Jak leczę… w 2020 r.
DESCRIPTION:
URL:https://11a.com.pl/wydarzenie/hematologia-konsultacyjna-jak-lecze-w-2020-r/
LOCATION:ONLINE
ATTACH;FMTTYPE=image/jpeg:https://11a.com.pl/wp-content/uploads/2020/10/BANNERY-KONFERENCJE-ELEVEN-407x160px_139-20_v35.jpg
END:VEVENT
BEGIN:VEVENT
DTSTART;VALUE=DATE:20200914
DTEND;VALUE=DATE:20200916
DTSTAMP:20260420T002705
CREATED:20210301T112922Z
LAST-MODIFIED:20220124T143217Z
UID:732-1600041600-1600214399@11a.com.pl
SUMMARY:Hematologia Praktyczna Rzeszów Debaty on-line
DESCRIPTION:
URL:https://11a.com.pl/wydarzenie/hematologia-praktyczna-rzeszow-debaty-on-line/
LOCATION:ONLINE
ATTACH;FMTTYPE=image/jpeg:https://11a.com.pl/wp-content/uploads/2020/10/HP_baner_407x160px_14-15.10.20-081020w3.jpg
END:VEVENT
BEGIN:VEVENT
DTSTART;VALUE=DATE:20200907
DTEND;VALUE=DATE:20200911
DTSTAMP:20260420T002705
CREATED:20210301T112826Z
LAST-MODIFIED:20210301T112826Z
UID:730-1599436800-1599782399@11a.com.pl
SUMMARY:Hematologia Kliniczna i Doświadczalna
DESCRIPTION:
URL:https://11a.com.pl/wydarzenie/hematologia-kliniczna-i-doswiadczalna/
LOCATION:ONLINE
ATTACH;FMTTYPE=image/jpeg:https://11a.com.pl/wp-content/uploads/2020/10/hkid2020_407x160px_v2.jpg
END:VEVENT
BEGIN:VEVENT
DTSTART;VALUE=DATE:20200812
DTEND;VALUE=DATE:20200827
DTSTAMP:20260420T002705
CREATED:20210301T112724Z
LAST-MODIFIED:20210301T112724Z
UID:728-1597190400-1598486399@11a.com.pl
SUMMARY:Wakacje z hematologią. Nowe kierunki w hematologii
DESCRIPTION:
URL:https://11a.com.pl/wydarzenie/wakacje-z-hematologia-nowe-kierunki-w-hematologii/
LOCATION:ONLINE
ATTACH;FMTTYPE=image/jpeg:https://11a.com.pl/wp-content/uploads/2020/10/BANNERY-KONFERENCJE-ELEVEN-407x160px_139-20_v34.jpg
END:VEVENT
BEGIN:VEVENT
DTSTART;VALUE=DATE:20200728
DTEND;VALUE=DATE:20200826
DTSTAMP:20260420T002705
CREATED:20210301T112429Z
LAST-MODIFIED:20210301T112429Z
UID:724-1595894400-1598399999@11a.com.pl
SUMMARY:Letnie Spotkania Hematologiczne
DESCRIPTION:
URL:https://11a.com.pl/wydarzenie/letnie-spotkania-hematologiczne/
LOCATION:ONLINE
ATTACH;FMTTYPE=image/jpeg:https://11a.com.pl/wp-content/uploads/2020/09/BANNERY-KONFERENCJE-ELEVEN-407x160px_139-20_v32.jpg
END:VEVENT
BEGIN:VEVENT
DTSTART;VALUE=DATE:20200619
DTEND;VALUE=DATE:20200620
DTSTAMP:20260420T002705
CREATED:20210301T112603Z
LAST-MODIFIED:20210301T112603Z
UID:726-1592524800-1592611199@11a.com.pl
SUMMARY:EHA NEWS 2020. Jak poprawić wyniki leczenia przeciwnowotworowego w hematologii?
DESCRIPTION:
URL:https://11a.com.pl/wydarzenie/eha-news-2020-jak-poprawic-wyniki-leczenia-przeciwnowotworowego-w-hematologii/
LOCATION:ONLINE
ATTACH;FMTTYPE=image/jpeg:https://11a.com.pl/wp-content/uploads/2020/10/EHAnews_banner_407x160.jpg
END:VEVENT
BEGIN:VEVENT
DTSTART;VALUE=DATE:20200228
DTEND;VALUE=DATE:20200301
DTSTAMP:20260420T002705
CREATED:20210301T111320Z
LAST-MODIFIED:20210301T111320Z
UID:707-1582848000-1583020799@11a.com.pl
SUMMARY:10. Current & Future Perspectives of MM & other hematological malignancies treatment
DESCRIPTION:
URL:https://11a.com.pl/wydarzenie/10-current-future-perspectives-of-mm-other-hematological-malignancies-treatment/
LOCATION:Warszawa\, Warszawa\, Poland
ATTACH;FMTTYPE=image/jpeg:https://11a.com.pl/wp-content/uploads/2020/10/CF_baner407x160__081020w2.jpg
END:VEVENT
BEGIN:VEVENT
DTSTART;VALUE=DATE:20200221
DTEND;VALUE=DATE:20200223
DTSTAMP:20260420T002705
CREATED:20210301T112309Z
LAST-MODIFIED:20210301T112309Z
UID:721-1582243200-1582415999@11a.com.pl
SUMMARY:IX Hematology Experts Forum
DESCRIPTION:
URL:https://11a.com.pl/wydarzenie/ix-hematology-experts-forum/
LOCATION:Hotel InterContinental\, Emilii Plater 49\, Warszawa\, Mazowieckie\, Poland
ATTACH;FMTTYPE=image/jpeg:https://11a.com.pl/wp-content/uploads/2020/10/BANNERY-KONFERENCJE-ELEVEN-407x160px_139-20_v37.jpg
END:VEVENT
BEGIN:VEVENT
DTSTART;VALUE=DATE:20200218
DTEND;VALUE=DATE:20200219
DTSTAMP:20260420T002705
CREATED:20210301T111216Z
LAST-MODIFIED:20210301T111216Z
UID:704-1581984000-1582070399@11a.com.pl
SUMMARY:Warsztaty MDS „Pacjenci z MDS – Wyzwania terapeutyczne”
DESCRIPTION:
URL:https://11a.com.pl/wydarzenie/warsztaty-mds-pacjenci-z-mds-wyzwania-terapeutyczne-2/
LOCATION:Słupsk\, Hubalczyków 1\, Słupsk\, Pomorskie\, Poland
ATTACH;FMTTYPE=image/jpeg:https://11a.com.pl/wp-content/uploads/2020/10/BANNERY-KONFERENCJE-ELEVEN-407x160px_139-20_v4_warsztatyMDS.jpg
END:VEVENT
BEGIN:VEVENT
DTSTART;VALUE=DATE:20200217
DTEND;VALUE=DATE:20200218
DTSTAMP:20260420T002705
CREATED:20210301T111036Z
LAST-MODIFIED:20210301T111036Z
UID:701-1581897600-1581983999@11a.com.pl
SUMMARY:Warsztaty MDS „Pacjenci z MDS – Wyzwania terapeutyczne”
DESCRIPTION:
URL:https://11a.com.pl/wydarzenie/warsztaty-mds-pacjenci-z-mds-wyzwania-terapeutyczne/
LOCATION:Gdańsk\, Gdańsk\, Pomorskie\, Poland
ATTACH;FMTTYPE=image/jpeg:https://11a.com.pl/wp-content/uploads/2020/10/BANNERY-KONFERENCJE-ELEVEN-407x160px_139-20_v4_warsztatyMDS.jpg
END:VEVENT
BEGIN:VEVENT
DTSTART;VALUE=DATE:20190610
DTEND;VALUE=DATE:20190612
DTSTAMP:20260420T002705
CREATED:20210301T110033Z
LAST-MODIFIED:20210311T144507Z
UID:685-1560124800-1560297599@11a.com.pl
SUMMARY:KURS NGS szkolenia-warsztaty pt: Doskonalenie diagnostyki białaczek w Polsce wg klasyfikacji WHO 2016 oraz rekomendacji ELN 2017
DESCRIPTION:
URL:https://11a.com.pl/wydarzenie/kurs-ngs-szkolenia-warsztaty-pt-doskonalenie-diagnostyki-bialaczek-w-polsce-wg-klasyfikacji-who-2016-oraz-rekomendacji-eln-2017/
LOCATION:Collegium Biologicum Uniwersytetu Adama Mickiewicza\, Uniwersytetu Poznańskiego 6\, Poznań\, Wielkopolskie
CATEGORIES:Archiwalne
ATTACH;FMTTYPE=image/jpeg:https://11a.com.pl/wp-content/uploads/2020/12/NGS-6.12-.jpg
END:VEVENT
BEGIN:VEVENT
DTSTART;VALUE=DATE:20190126
DTEND;VALUE=DATE:20190127
DTSTAMP:20260420T002705
CREATED:20210301T113516Z
LAST-MODIFIED:20210301T113516Z
UID:740-1548460800-1548547199@11a.com.pl
SUMMARY:Echa ASBMR Orlando 2019
DESCRIPTION:
URL:https://11a.com.pl/wydarzenie/echa-asbmr-orlando-2019/
LOCATION:Vienna House Andel’s\, Ogrodowa 17\, Lódź\, Łódzkie\, Poland
ATTACH;FMTTYPE=image/jpeg:https://11a.com.pl/wp-content/uploads/2020/10/BANNERY-KONFERENCJE-ELEVEN-407x160px_139-20_v3.jpg
END:VEVENT
END:VCALENDAR