BEGIN:VCALENDAR
VERSION:2.0
PRODID:-//Eleven - ECPv6.15.15//NONSGML v1.0//EN
CALSCALE:GREGORIAN
METHOD:PUBLISH
X-WR-CALNAME:Eleven
X-ORIGINAL-URL:https://11a.com.pl
X-WR-CALDESC:Wydarzenia dla Eleven
REFRESH-INTERVAL;VALUE=DURATION:PT1H
X-Robots-Tag:noindex
X-PUBLISHED-TTL:PT1H
BEGIN:VTIMEZONE
TZID:Europe/Warsaw
BEGIN:DAYLIGHT
TZOFFSETFROM:+0100
TZOFFSETTO:+0200
TZNAME:CEST
DTSTART:20240331T010000
END:DAYLIGHT
BEGIN:STANDARD
TZOFFSETFROM:+0200
TZOFFSETTO:+0100
TZNAME:CET
DTSTART:20241027T010000
END:STANDARD
BEGIN:DAYLIGHT
TZOFFSETFROM:+0100
TZOFFSETTO:+0200
TZNAME:CEST
DTSTART:20250330T010000
END:DAYLIGHT
BEGIN:STANDARD
TZOFFSETFROM:+0200
TZOFFSETTO:+0100
TZNAME:CET
DTSTART:20251026T010000
END:STANDARD
BEGIN:DAYLIGHT
TZOFFSETFROM:+0100
TZOFFSETTO:+0200
TZNAME:CEST
DTSTART:20260329T010000
END:DAYLIGHT
BEGIN:STANDARD
TZOFFSETFROM:+0200
TZOFFSETTO:+0100
TZNAME:CET
DTSTART:20261025T010000
END:STANDARD
BEGIN:DAYLIGHT
TZOFFSETFROM:+0100
TZOFFSETTO:+0200
TZNAME:CEST
DTSTART:20270328T010000
END:DAYLIGHT
BEGIN:STANDARD
TZOFFSETFROM:+0200
TZOFFSETTO:+0100
TZNAME:CET
DTSTART:20271031T010000
END:STANDARD
END:VTIMEZONE
BEGIN:VEVENT
DTSTART;VALUE=DATE:20250923
DTEND;VALUE=DATE:20250925
DTSTAMP:20260420T080438
CREATED:20240209T134637Z
LAST-MODIFIED:20250708T094426Z
UID:1405-1758585600-1758758399@11a.com.pl
SUMMARY:XV Ogólnopolskie Warsztaty MDS i AML | konferencja on-line
DESCRIPTION:
URL:https://11a.com.pl/wydarzenie/xv-ogolnopolskie-warsztaty-mds-i-aml-konferencja-on-line/
LOCATION:ONLINE
ATTACH;FMTTYPE=image/png:https://11a.com.pl/wp-content/uploads/2024/12/11a_MDS_BANNER_407x160_2025_219-24.png
END:VEVENT
BEGIN:VEVENT
DTSTART;VALUE=DATE:20250926
DTEND;VALUE=DATE:20250928
DTSTAMP:20260420T080438
CREATED:20241209T160710Z
LAST-MODIFIED:20241209T160710Z
UID:1586-1758844800-1759017599@11a.com.pl
SUMMARY:PNH - TODAY AND TOMORROW
DESCRIPTION:
URL:https://11a.com.pl/wydarzenie/pnh-today-and-tomorrow/
LOCATION:Warszawa\, Warszawa\, Poland
ATTACH;FMTTYPE=image/png:https://11a.com.pl/wp-content/uploads/2024/12/PNH_BANNER_BANNER_407x160_178-24.png
END:VEVENT
BEGIN:VEVENT
DTSTART;VALUE=DATE:20251003
DTEND;VALUE=DATE:20251005
DTSTAMP:20260420T080438
CREATED:20240202T152610Z
LAST-MODIFIED:20250812T085355Z
UID:1364-1759449600-1759622399@11a.com.pl
SUMMARY:IX Interdyscyplinarna Konferencja Amyloidoza | konferencja on-line
DESCRIPTION:
URL:https://11a.com.pl/wydarzenie/ix-interdyscyplinarna-konferencja-amyloidoza-konferencja-on-line/
LOCATION:ONLINE
ATTACH;FMTTYPE=image/png:https://11a.com.pl/wp-content/uploads/2024/02/Amyloidoza_BANNER_407x160_34-24-11A.png
END:VEVENT
BEGIN:VEVENT
DTSTART;TZID=Europe/Warsaw:20251003T140000
DTEND;TZID=Europe/Warsaw:20251004T130000
DTSTAMP:20260420T080438
CREATED:20251013T093246Z
LAST-MODIFIED:20251013T093246Z
UID:1800-1759500000-1759582800@11a.com.pl
SUMMARY:FOLLOW HEMO TRENDS
DESCRIPTION:
URL:https://11a.com.pl/wydarzenie/follow-hemo-trends-3/
LOCATION:Tiffi Boutique Hotel\, Olsztyn
ATTACH;FMTTYPE=image/png:https://11a.com.pl/wp-content/uploads/2025/10/FHT_3-4.10.2025_banner_11a_407x160.png
END:VEVENT
BEGIN:VEVENT
DTSTART;VALUE=DATE:20251023
DTEND;VALUE=DATE:20251026
DTSTAMP:20260420T080438
CREATED:20240614T102902Z
LAST-MODIFIED:20250808T080125Z
UID:1470-1761177600-1761436799@11a.com.pl
SUMMARY:XXXII Zjazd Polskiego Towarzystwa Hematologów i Transfuzjologów
DESCRIPTION:
URL:https://11a.com.pl/wydarzenie/xxxii-zjazd-polskiego-towarzystwa-hematologow-i-transfuzjologow/
LOCATION:Gdańsk\, Gdańsk\, Pomorskie\, Poland
ATTACH;FMTTYPE=image/png:https://11a.com.pl/wp-content/uploads/2024/06/thumbnail_PTHIT_2025_banner_407x160_v5-11A.png
END:VEVENT
BEGIN:VEVENT
DTSTART;TZID=Europe/Warsaw:20251121T140000
DTEND;TZID=Europe/Warsaw:20251122T140000
DTSTAMP:20260420T080438
CREATED:20251013T093553Z
LAST-MODIFIED:20251013T093553Z
UID:1804-1763733600-1763820000@11a.com.pl
SUMMARY:FOLLOW HEMO TRENDS
DESCRIPTION:
URL:https://11a.com.pl/wydarzenie/follow-hemo-trends-4/
LOCATION:Folwark Łochów\, ul. Marii Konopnickiej 10\, Łochów\, 07-130\, Poland
ATTACH;FMTTYPE=image/png:https://11a.com.pl/wp-content/uploads/2025/10/FHT_21-22.11.2025_banner_11a_407x160.png
END:VEVENT
BEGIN:VEVENT
DTSTART;TZID=Europe/Warsaw:20251204T170000
DTEND;TZID=Europe/Warsaw:20251204T190000
DTSTAMP:20260420T080438
CREATED:20250122T113535Z
LAST-MODIFIED:20250506T095312Z
UID:1629-1764867600-1764874800@11a.com.pl
SUMMARY:Meandy nowoczesnych terapii onkohematologicznych - co lekarz rodzinny powinien wiedzieć? | cykl spotkań on-line
DESCRIPTION:
URL:https://11a.com.pl/wydarzenie/meandy-nowoczesnych-terapii-onkohematologicznych-co-lekarz-rodzinny-powinien-wiedziec-cykl-spotkan-on-line-2/
LOCATION:ONLINE
ATTACH;FMTTYPE=image/png:https://11a.com.pl/wp-content/uploads/2025/01/grudzien_407x160.png
END:VEVENT
BEGIN:VEVENT
DTSTART;VALUE=DATE:20251212
DTEND;VALUE=DATE:20251214
DTSTAMP:20260420T080438
CREATED:20240206T205212Z
LAST-MODIFIED:20250206T103913Z
UID:1393-1765497600-1765670399@11a.com.pl
SUMMARY:Od Eksperymentu do Standardu w Perspektywie ASH 2025 | konferencja on-line
DESCRIPTION:
URL:https://11a.com.pl/wydarzenie/od-eksperymentu-do-standardu-w-perspektywie-ash-2025-konferencja-on-line/
LOCATION:ONLINE
ATTACH;FMTTYPE=image/png:https://11a.com.pl/wp-content/uploads/2024/02/11.a.pl_ASH_2025_BANNER_407x160_9-25.png
END:VEVENT
BEGIN:VEVENT
DTSTART;VALUE=DATE:20260122
DTEND;VALUE=DATE:20260124
DTSTAMP:20260420T080438
CREATED:20251118T090735Z
LAST-MODIFIED:20251118T090735Z
UID:1845-1769040000-1769212799@11a.com.pl
SUMMARY:Endoscopic breast surgery workshops
DESCRIPTION:
URL:https://11a.com.pl/wydarzenie/endoscopic-breast-surgery-workshops/
LOCATION:Poznań\, Poland
ATTACH;FMTTYPE=image/png:https://11a.com.pl/wp-content/uploads/2025/11/Baner_407x160px_11A.png
END:VEVENT
BEGIN:VEVENT
DTSTART;TZID=Europe/Warsaw:20260131T090000
DTEND;TZID=Europe/Warsaw:20260131T153000
DTSTAMP:20260420T080438
CREATED:20251210T084236Z
LAST-MODIFIED:20251210T143015Z
UID:1858-1769850000-1769873400@11a.com.pl
SUMMARY:Echa ASBMR 2025
DESCRIPTION:
URL:https://11a.com.pl/wydarzenie/echa-asbmr-2025/
LOCATION:ONLINE
ATTACH;FMTTYPE=image/png:https://11a.com.pl/wp-content/uploads/2025/12/11a_Echa_ASBMR_BANNER_407x160_178-25.png
END:VEVENT
BEGIN:VEVENT
DTSTART;TZID=Europe/Warsaw:20260220T140000
DTEND;TZID=Europe/Warsaw:20260221T170000
DTSTAMP:20260420T080438
CREATED:20251105T124746Z
LAST-MODIFIED:20251114T133646Z
UID:1813-1771596000-1771693200@11a.com.pl
SUMMARY:Warsztaty „Zalecenia i programy lekowe w rzeczywistej praktyce klinicznej”
DESCRIPTION:
URL:https://11a.com.pl/wydarzenie/warsztaty-zalecenia-i-programy-lekowe-w-rzeczywistej-praktyce-klinicznej/
LOCATION:Wrocław\, Wrocław\, Poland
ATTACH;FMTTYPE=image/png:https://11a.com.pl/wp-content/uploads/2025/11/11a_baner_407x160px.png
END:VEVENT
BEGIN:VEVENT
DTSTART;VALUE=DATE:20260227
DTEND;VALUE=DATE:20260301
DTSTAMP:20260420T080438
CREATED:20250630T085054Z
LAST-MODIFIED:20250716T121142Z
UID:1753-1772150400-1772323199@11a.com.pl
SUMMARY:15. Konferencja CURRENT & FUTURE PERSPECTIVES OF MM TREATMENT
DESCRIPTION:
URL:https://11a.com.pl/wydarzenie/15-konferencja-current-future-perspectives-of-mm-treatment/
LOCATION:Warszawa\, Warszawa\, Poland
ATTACH;FMTTYPE=image/png:https://11a.com.pl/wp-content/uploads/2025/06/11a_CF_banner_407x160_94-25.png
END:VEVENT
BEGIN:VEVENT
DTSTART;VALUE=DATE:20260317
DTEND;VALUE=DATE:20260319
DTSTAMP:20260420T080438
CREATED:20250804T083520Z
LAST-MODIFIED:20250805T092144Z
UID:1784-1773705600-1773878399@11a.com.pl
SUMMARY:WYZWANIA I STANDARDY W HEMATOLOGII
DESCRIPTION:
URL:https://11a.com.pl/wydarzenie/wyzwania-i-standardy-w-hematologii-3/
LOCATION:ONLINE
ATTACH;FMTTYPE=image/png:https://11a.com.pl/wp-content/uploads/2025/08/11a_WSWH_banner_407x160_105-25.png
END:VEVENT
BEGIN:VEVENT
DTSTART;VALUE=DATE:20260320
DTEND;VALUE=DATE:20260322
DTSTAMP:20260420T080438
CREATED:20260205T135655Z
LAST-MODIFIED:20260205T135655Z
UID:1868-1773964800-1774137599@11a.com.pl
SUMMARY:Follow Hemo Trends
DESCRIPTION:
URL:https://11a.com.pl/wydarzenie/follow-hemo-trends-5/
LOCATION:Wiskitki\, Wiskitki\, 96-315\, Poland
ATTACH;FMTTYPE=image/png:https://11a.com.pl/wp-content/uploads/2026/02/FHT_20-21.03.2026_banner_11a_407x160.png
END:VEVENT
BEGIN:VEVENT
DTSTART;VALUE=DATE:20260422
DTEND;VALUE=DATE:20260423
DTSTAMP:20260420T080438
CREATED:20260409T111746Z
LAST-MODIFIED:20260409T111746Z
UID:1904-1776816000-1776902399@11a.com.pl
SUMMARY:Dolnośląskie Spotkania Hematologiczne
DESCRIPTION:
URL:https://11a.com.pl/wydarzenie/dolnoslaskie-spotkania-hematologiczne/
LOCATION:ONLINE
ATTACH;FMTTYPE=image/png:https://11a.com.pl/wp-content/uploads/2026/04/banner_407_160_Obszar-roboczy-1-03.png
END:VEVENT
BEGIN:VEVENT
DTSTART;VALUE=DATE:20260424
DTEND;VALUE=DATE:20260426
DTSTAMP:20260420T080438
CREATED:20250630T090117Z
LAST-MODIFIED:20250709T143231Z
UID:1756-1776988800-1777161599@11a.com.pl
SUMMARY:V Ogólnopolska Konferencja Naukowa „Nowotwory układu krwiotwórczego w praktyce klinicznej – teraźniejszość i przyszłość”
DESCRIPTION:
URL:https://11a.com.pl/wydarzenie/v-ogolnopolska-konferencja-naukowa-nowotwory-ukladu-krwiotworczego-w-praktyce-klinicznej-terazniejszosc-i-przyszlosc/
LOCATION:Łódź\, Łódź\, Łódzkie\, Poland
ATTACH;FMTTYPE=image/png:https://11a.com.pl/wp-content/uploads/2025/06/11a_NUK_BANNER_407x160_95-25_v2.png
END:VEVENT
BEGIN:VEVENT
DTSTART;VALUE=DATE:20260507
DTEND;VALUE=DATE:20260511
DTSTAMP:20260420T080438
CREATED:20250714T074311Z
LAST-MODIFIED:20260223T135819Z
UID:1778-1778112000-1778457599@11a.com.pl
SUMMARY:VI Międzynarodowa Konferencja "Hematologia kliniczna i doświadczalna"
DESCRIPTION:
URL:https://11a.com.pl/wydarzenie/hematologia-kliniczna-i-doswiadczalna-2/
LOCATION:Lublin\, Lublin\, Poland
ATTACH;FMTTYPE=image/jpeg:https://11a.com.pl/wp-content/uploads/2025/07/11a_HKiD-407x160-KG-LG_01_23.02.2023.jpg
END:VEVENT
BEGIN:VEVENT
DTSTART;TZID=Europe/Warsaw:20260512T160000
DTEND;TZID=Europe/Warsaw:20260512T170000
DTSTAMP:20260420T080438
CREATED:20251104T144217Z
LAST-MODIFIED:20260331T072501Z
UID:1810-1778601600-1778605200@11a.com.pl
SUMMARY:Zakażenia w Hematologii i Transplantologii 
DESCRIPTION:
URL:https://11a.com.pl/wydarzenie/zakazenia-w-hematologii-i-transplantologii/
LOCATION:ONLINE
ATTACH;FMTTYPE=image/png:https://11a.com.pl/wp-content/uploads/2025/11/11a_ZAKAZENIA_BANNER_407x160_163-25.png
END:VEVENT
BEGIN:VEVENT
DTSTART;TZID=Europe/Warsaw:20260529T080000
DTEND;TZID=Europe/Warsaw:20260530T170000
DTSTAMP:20260420T080438
CREATED:20250613T102907Z
LAST-MODIFIED:20250613T102907Z
UID:1750-1780041600-1780160400@11a.com.pl
SUMMARY:ILCM Conference
DESCRIPTION:
URL:https://11a.com.pl/wydarzenie/ilcm-conference-2/
LOCATION:Kraków\, Kraków\, Poland
ATTACH;FMTTYPE=image/png:https://11a.com.pl/wp-content/uploads/2025/06/11A_ILCM_banner_407x160_78-25_v4.png
END:VEVENT
BEGIN:VEVENT
DTSTART;VALUE=DATE:20260618
DTEND;VALUE=DATE:20260619
DTSTAMP:20260420T080438
CREATED:20250804T083724Z
LAST-MODIFIED:20251120T131612Z
UID:1787-1781740800-1781827199@11a.com.pl
SUMMARY:EHA NEWS 2026
DESCRIPTION:
URL:https://11a.com.pl/wydarzenie/eha-news-2026/
LOCATION:ONLINE
ATTACH;FMTTYPE=image/png:https://11a.com.pl/wp-content/uploads/2025/08/11a_EHAnews_BANNER_407x160_104-25.png
END:VEVENT
BEGIN:VEVENT
DTSTART;VALUE=DATE:20260904
DTEND;VALUE=DATE:20260906
DTSTAMP:20260420T080438
CREATED:20250630T090550Z
LAST-MODIFIED:20260407T120940Z
UID:1760-1788480000-1788652799@11a.com.pl
SUMMARY:VI Ogólnopolska Konferencja „Hematologia Praktyczna"
DESCRIPTION:
URL:https://11a.com.pl/wydarzenie/vi-ogolnopolska-konferencja-hematologia-praktyczna-2/
LOCATION:Rzeszów\, Rzeszów\, Podkarpackie\, Poland
ATTACH;FMTTYPE=image/png:https://11a.com.pl/wp-content/uploads/2025/06/HP_banner_407x160_96-25_v2.png
END:VEVENT
BEGIN:VEVENT
DTSTART;VALUE=DATE:20260911
DTEND;VALUE=DATE:20260913
DTSTAMP:20260420T080438
CREATED:20250630T114625Z
LAST-MODIFIED:20250714T073220Z
UID:1763-1789084800-1789257599@11a.com.pl
SUMMARY:Jak leczę... w 2026 r. Hematologia Konsultacyjna
DESCRIPTION:
URL:https://11a.com.pl/wydarzenie/jak-lecze-w-2026-r-hematologia-konsultacyjna/
LOCATION:Gdańsk\, Gdańsk\, Pomorskie\, Poland
ATTACH;FMTTYPE=image/png:https://11a.com.pl/wp-content/uploads/2025/06/HK2026_BANNER_407x160_92-25.png
END:VEVENT
BEGIN:VEVENT
DTSTART;VALUE=DATE:20260914
DTEND;VALUE=DATE:20260916
DTSTAMP:20260420T080438
CREATED:20251204T103146Z
LAST-MODIFIED:20251204T103146Z
UID:1853-1789344000-1789516799@11a.com.pl
SUMMARY:Diagnostyka molekularna w hematoonkologii: od genomu do terapii
DESCRIPTION:
URL:https://11a.com.pl/wydarzenie/diagnostyka-molekularna-w-hematoonkologii-od-genomu-do-terapii/
LOCATION:Kraków\, Kraków\, Poland
ATTACH;FMTTYPE=image/png:https://11a.com.pl/wp-content/uploads/2025/12/11a_baner_407x160px.png
END:VEVENT
BEGIN:VEVENT
DTSTART;TZID=Europe/Warsaw:20261002T170000
DTEND;TZID=Europe/Warsaw:20261003T140000
DTSTAMP:20260420T080438
CREATED:20251118T085424Z
LAST-MODIFIED:20251118T085424Z
UID:1842-1790960400-1791036000@11a.com.pl
SUMMARY:X Interdyscyplinarna Konferencja Amyloidoza
DESCRIPTION:
URL:https://11a.com.pl/wydarzenie/x-interdyscyplinarna-konferencja-amyloidoza/
LOCATION:ONLINE
ATTACH;FMTTYPE=image/png:https://11a.com.pl/wp-content/uploads/2025/11/Amyloidoza_BANNER_407x160_165-25_11A.png
END:VEVENT
BEGIN:VEVENT
DTSTART;VALUE=DATE:20261218
DTEND;VALUE=DATE:20261220
DTSTAMP:20260420T080438
CREATED:20260202T140349Z
LAST-MODIFIED:20260202T140349Z
UID:1864-1797552000-1797724799@11a.com.pl
SUMMARY:Od Eksperymentu do Standardu w Perspektywie ASH 2026
DESCRIPTION:
URL:https://11a.com.pl/wydarzenie/od-eksperymentu-do-standardu-w-perspektywie-ash-2026/
LOCATION:ONLINE
ATTACH;FMTTYPE=image/png:https://11a.com.pl/wp-content/uploads/2026/02/11a_ASH_BANNER_407x160_9-26.png
END:VEVENT
END:VCALENDAR