BEGIN:VCALENDAR
VERSION:2.0
PRODID:-//Eleven - ECPv6.15.15//NONSGML v1.0//EN
CALSCALE:GREGORIAN
METHOD:PUBLISH
X-WR-CALNAME:Eleven
X-ORIGINAL-URL:https://11a.com.pl
X-WR-CALDESC:Wydarzenia dla Eleven
REFRESH-INTERVAL;VALUE=DURATION:PT1H
X-Robots-Tag:noindex
X-PUBLISHED-TTL:PT1H
BEGIN:VTIMEZONE
TZID:Europe/Warsaw
BEGIN:DAYLIGHT
TZOFFSETFROM:+0100
TZOFFSETTO:+0200
TZNAME:CEST
DTSTART:20240331T010000
END:DAYLIGHT
BEGIN:STANDARD
TZOFFSETFROM:+0200
TZOFFSETTO:+0100
TZNAME:CET
DTSTART:20241027T010000
END:STANDARD
BEGIN:DAYLIGHT
TZOFFSETFROM:+0100
TZOFFSETTO:+0200
TZNAME:CEST
DTSTART:20250330T010000
END:DAYLIGHT
BEGIN:STANDARD
TZOFFSETFROM:+0200
TZOFFSETTO:+0100
TZNAME:CET
DTSTART:20251026T010000
END:STANDARD
BEGIN:DAYLIGHT
TZOFFSETFROM:+0100
TZOFFSETTO:+0200
TZNAME:CEST
DTSTART:20260329T010000
END:DAYLIGHT
BEGIN:STANDARD
TZOFFSETFROM:+0200
TZOFFSETTO:+0100
TZNAME:CET
DTSTART:20261025T010000
END:STANDARD
END:VTIMEZONE
BEGIN:VEVENT
DTSTART;TZID=Europe/Warsaw:20250313T170000
DTEND;TZID=Europe/Warsaw:20250313T190000
DTSTAMP:20260422T130555
CREATED:20250121T135805Z
LAST-MODIFIED:20250122T113623Z
UID:1610-1741885200-1741892400@11a.com.pl
SUMMARY:Meandy nowoczesnych terapii onkohematologicznych - co lekarz rodzinny powinien wiedzieć? | cykl spotkań on-line
DESCRIPTION:
URL:https://11a.com.pl/wydarzenie/cykl-spotkan-on-line-dla-lekarzy-poz/
LOCATION:ONLINE
ATTACH;FMTTYPE=image/png:https://11a.com.pl/wp-content/uploads/2025/01/11a_www_407x160.png
END:VEVENT
END:VCALENDAR