BEGIN:VCALENDAR
VERSION:2.0
PRODID:-//Eleven - ECPv6.15.15//NONSGML v1.0//EN
CALSCALE:GREGORIAN
METHOD:PUBLISH
X-WR-CALNAME:Eleven
X-ORIGINAL-URL:https://11a.com.pl
X-WR-CALDESC:Wydarzenia dla Eleven
REFRESH-INTERVAL;VALUE=DURATION:PT1H
X-Robots-Tag:noindex
X-PUBLISHED-TTL:PT1H
BEGIN:VTIMEZONE
TZID:Europe/Warsaw
BEGIN:DAYLIGHT
TZOFFSETFROM:+0100
TZOFFSETTO:+0200
TZNAME:CEST
DTSTART:20220327T010000
END:DAYLIGHT
BEGIN:STANDARD
TZOFFSETFROM:+0200
TZOFFSETTO:+0100
TZNAME:CET
DTSTART:20221030T010000
END:STANDARD
BEGIN:DAYLIGHT
TZOFFSETFROM:+0100
TZOFFSETTO:+0200
TZNAME:CEST
DTSTART:20230326T010000
END:DAYLIGHT
BEGIN:STANDARD
TZOFFSETFROM:+0200
TZOFFSETTO:+0100
TZNAME:CET
DTSTART:20231029T010000
END:STANDARD
BEGIN:DAYLIGHT
TZOFFSETFROM:+0100
TZOFFSETTO:+0200
TZNAME:CEST
DTSTART:20240331T010000
END:DAYLIGHT
BEGIN:STANDARD
TZOFFSETFROM:+0200
TZOFFSETTO:+0100
TZNAME:CET
DTSTART:20241027T010000
END:STANDARD
END:VTIMEZONE
BEGIN:VEVENT
DTSTART;VALUE=DATE:20230602
DTEND;VALUE=DATE:20230604
DTSTAMP:20260423T200104
CREATED:20221103T125617Z
LAST-MODIFIED:20230329T091303Z
UID:1085-1685664000-1685836799@11a.com.pl
SUMMARY:XII HEMATOLOGY EXPERTS FORUM
DESCRIPTION:
URL:https://11a.com.pl/wydarzenie/xii-hematology-experts-forum/
LOCATION:Warszawa\, Warszawa\, Poland
ATTACH;FMTTYPE=image/jpeg:https://11a.com.pl/wp-content/uploads/2022/11/HEF_2023_banner_407x160_226-22.jpg
END:VEVENT
END:VCALENDAR