BEGIN:VCALENDAR
VERSION:2.0
PRODID:-//Eleven - ECPv6.15.15//NONSGML v1.0//EN
CALSCALE:GREGORIAN
METHOD:PUBLISH
X-WR-CALNAME:Eleven
X-ORIGINAL-URL:https://11a.com.pl
X-WR-CALDESC:Wydarzenia dla Eleven
REFRESH-INTERVAL;VALUE=DURATION:PT1H
X-Robots-Tag:noindex
X-PUBLISHED-TTL:PT1H
BEGIN:VTIMEZONE
TZID:Europe/Warsaw
BEGIN:DAYLIGHT
TZOFFSETFROM:+0100
TZOFFSETTO:+0200
TZNAME:CEST
DTSTART:20210328T010000
END:DAYLIGHT
BEGIN:STANDARD
TZOFFSETFROM:+0200
TZOFFSETTO:+0100
TZNAME:CET
DTSTART:20211031T010000
END:STANDARD
BEGIN:DAYLIGHT
TZOFFSETFROM:+0100
TZOFFSETTO:+0200
TZNAME:CEST
DTSTART:20220327T010000
END:DAYLIGHT
BEGIN:STANDARD
TZOFFSETFROM:+0200
TZOFFSETTO:+0100
TZNAME:CET
DTSTART:20221030T010000
END:STANDARD
BEGIN:DAYLIGHT
TZOFFSETFROM:+0100
TZOFFSETTO:+0200
TZNAME:CEST
DTSTART:20230326T010000
END:DAYLIGHT
BEGIN:STANDARD
TZOFFSETFROM:+0200
TZOFFSETTO:+0100
TZNAME:CET
DTSTART:20231029T010000
END:STANDARD
END:VTIMEZONE
BEGIN:VEVENT
DTSTART;VALUE=DATE:20220401
DTEND;VALUE=DATE:20220403
DTSTAMP:20260424T152531
CREATED:20210719T084200Z
LAST-MODIFIED:20220210T155348Z
UID:845-1648771200-1648943999@11a.com.pl
SUMMARY:11 Konferencja Current&Future Prespectives of MM Treatment
DESCRIPTION:
URL:https://11a.com.pl/wydarzenie/11-konferencja-currentfuture-prespectives-of-mm-other-hematological-malignancies-treatment/
LOCATION:Warszawa\, Warszawa\, Poland
ATTACH;FMTTYPE=image/jpeg:https://11a.com.pl/wp-content/uploads/2022/02/CF_banner_407x160_v4.jpg
END:VEVENT
END:VCALENDAR